BEGIN:VCALENDAR
VERSION:2.0
PRODID:-//Tukios.com/
BEGIN:VEVENT
UID:9ace380c-0e02-4770-a241-b9b470b891f9@www.macdonaldfuneralhome.com
DTSTAMP:20260424T204122Z
DTSTART:20260429T170000Z
DTEND:20260429T200000Z
SUMMARY:Visitation
DESCRIPTION:
URL:https://www.macdonaldfuneralhome.com/obituaries/bernard-longo
LOCATION: 1755 Ocean St  Marshfield MA 02050
GEO:42.0930289;-70.6987397
END:VEVENT
END:VCALENDAR