BEGIN:VCALENDAR
VERSION:2.0
PRODID:-//Tukios.com/
BEGIN:VEVENT
UID:1c4f79b2-06e5-4cb8-b92d-39815b92b98e@www.macdonaldfuneralhome.com
DTSTAMP:20260421T061350Z
DTSTART:20260424T200000Z
DTEND:20260424T230000Z
SUMMARY:Visitation
DESCRIPTION:
URL:https://www.macdonaldfuneralhome.com/obituaries/james-stark-iii
LOCATION: 1755 Ocean St  Marshfield MA 02050
GEO:42.0930289;-70.6987397
END:VEVENT
END:VCALENDAR