BEGIN:VCALENDAR
VERSION:2.0
PRODID:-//Tukios.com/
BEGIN:VEVENT
UID:17434fe6-ed40-42af-90d5-3923b47bdc92@www.macdonaldfuneralhome.com
DTSTAMP:20260421T061037Z
DTSTART:20260424T230000Z
DTEND:20260425T020000Z
SUMMARY:Celebration of Life
DESCRIPTION:
URL:https://www.macdonaldfuneralhome.com/obituaries/james-stark-iii
LOCATION:Venus II Restaurant 277 Ocean Street  Marshfield MA 02050
GEO:42.091105;-70.645233
END:VEVENT
END:VCALENDAR