BEGIN:VCALENDAR
VERSION:2.0
PRODID:-//Tukios.com/
BEGIN:VEVENT
UID:b72c3726-6eea-4b8b-b75d-dd86d2676165@www.macdonaldfuneralhome.com
DTSTAMP:20260423T053838Z
DTSTART:20260427T200000Z
DTEND:20260427T230000Z
SUMMARY:Visitation
DESCRIPTION:
URL:https://www.macdonaldfuneralhome.com/obituaries/kathleen-doyle
LOCATION: 1755 Ocean St  Marshfield MA 02050
GEO:42.0930289;-70.6987397
END:VEVENT
END:VCALENDAR