BEGIN:VCALENDAR
VERSION:2.0
PRODID:-//Tukios.com/
BEGIN:VEVENT
UID:87437a30-0691-49cd-9f69-246b0aa0efb9@www.macdonaldfuneralhome.com
DTSTAMP:20260423T053736Z
DTSTART:20260428T140000Z
DTEND:20260428T150000Z
SUMMARY:Funeral Service
DESCRIPTION:
URL:https://www.macdonaldfuneralhome.com/obituaries/kathleen-doyle
LOCATION: 40 Canal St  Marshfield MA 02050
GEO:42.0758864;-70.6630818
END:VEVENT
END:VCALENDAR