BEGIN:VCALENDAR
VERSION:2.0
PRODID:-//Tukios.com/
BEGIN:VEVENT
UID:7ebd806c-501d-4dcf-a970-e9478658d69c@www.macdonaldfuneralhome.com
DTSTAMP:20260420T221454Z
DTSTART:20260426T180000Z
DTEND:20260426T210000Z
SUMMARY:Visitation
DESCRIPTION:
URL:https://www.macdonaldfuneralhome.com/obituaries/nicholas-drosopoulos
LOCATION: 1755 Ocean St  Marshfield MA 02050
GEO:42.0930289;-70.6987397
END:VEVENT
END:VCALENDAR