BEGIN:VCALENDAR
VERSION:2.0
PRODID:-//Tukios.com/
BEGIN:VEVENT
UID:436b7091-a245-46a3-a2b9-4ea41f5379d4@www.macdonaldfuneralhome.com
DTSTAMP:20260420T221921Z
DTSTART:20260427T150000Z
DTEND:20260427T160000Z
SUMMARY:Funeral Service
DESCRIPTION:
URL:https://www.macdonaldfuneralhome.com/obituaries/nicholas-drosopoulos
LOCATION:Annunciation Church 457 Oak Street  Brockton MA 02301
GEO:42.102439;-71.0481936
END:VEVENT
END:VCALENDAR